BEGIN:VCALENDAR
VERSION:2.0
PRODID:-//Finger Lakes Cycling Club - ECPv5.14.1//NONSGML v1.0//EN
CALSCALE:GREGORIAN
METHOD:PUBLISH
X-WR-CALNAME:Finger Lakes Cycling Club
X-ORIGINAL-URL:https://fingerlakescycling.org
X-WR-CALDESC:Events for Finger Lakes Cycling Club
REFRESH-INTERVAL;VALUE=DURATION:PT1H
X-Robots-Tag:noindex
X-PUBLISHED-TTL:PT1H
BEGIN:VTIMEZONE
TZID:UTC
BEGIN:STANDARD
TZOFFSETFROM:+0000
TZOFFSETTO:+0000
TZNAME:UTC
DTSTART:20250101T000000
END:STANDARD
END:VTIMEZONE
BEGIN:VEVENT
DTSTART;VALUE=DATE:20250823
DTEND;VALUE=DATE:20250824
DTSTAMP:20260423T220937
CREATED:20241230T205033Z
LAST-MODIFIED:20241230T205121Z
UID:1707-1755907200-1755993599@fingerlakescycling.org
SUMMARY:Butternut Valley Gravel Grinder
DESCRIPTION:The Butternut Valley Gravel Grinder (formerly New Lisbon Gravel Grinder) is a 10 or 45 mile gravel event near Garrattsville\, NY.  Not technically a race\, but a challenging and adventurous day on the bike.  Presented by CNYC\, Butternuts Brewery and the Butternut Valley Alliance. \nCOME RIDE WITH World Champion and Tour of Flanders Winner Alessandro Ballan:  He is coming from Italy to NY for his first gravel event in the USA.  Grab an autograph\, share a beer\, or see how you match up to him on the climbs! \nAll entrants will be entered to win a BMC URS Gravel Bike. \nMore information and to register: https://www.bikereg.com/butternut-valley-gravel-grinder
URL:https://fingerlakescycling.org/event/butternut-valley-gravel-grinder-3/
LOCATION:Butternuts Brewery\, 4021 NY-51\, Garrattsville\, NY\, 13342\, United States
CATEGORIES:Gravel event,Race,Regional Rides
END:VEVENT
END:VCALENDAR