BEGIN:VCALENDAR
VERSION:2.0
PRODID:-//Finger Lakes Cycling Club - ECPv5.14.1//NONSGML v1.0//EN
CALSCALE:GREGORIAN
METHOD:PUBLISH
X-WR-CALNAME:Finger Lakes Cycling Club
X-ORIGINAL-URL:https://fingerlakescycling.org
X-WR-CALDESC:Events for Finger Lakes Cycling Club
REFRESH-INTERVAL;VALUE=DURATION:PT1H
X-Robots-Tag:noindex
X-PUBLISHED-TTL:PT1H
BEGIN:VTIMEZONE
TZID:UTC
BEGIN:STANDARD
TZOFFSETFROM:+0000
TZOFFSETTO:+0000
TZNAME:UTC
DTSTART:20260101T000000
END:STANDARD
END:VTIMEZONE
BEGIN:VEVENT
DTSTART;VALUE=DATE:20260502
DTEND;VALUE=DATE:20260503
DTSTAMP:20260423T170826
CREATED:20260117T023606Z
LAST-MODIFIED:20260117T023606Z
UID:1913-1777680000-1777766399@fingerlakescycling.org
SUMMARY:Finger Lakes Freshet
DESCRIPTION:The Finger Lakes Freshet returns for a second year! \nThis is a casual\, unofficial\, unsanctioned\, and unsupported gravel bikepacking ride starting and ending in Stewart Park\, Ithaca\, NY\, homeland of the Gayogohó:no people. Routes will follow gravel roads as much as possible. This will be a self-supported ride following the ethics of other bikepacking events like The Adirondack Trail Ride\, Vermont Super 8\, Catskill Bikepacking Route\, or the Tour Divide – meaning it’s an unmarked route\, with no sag wagon\, no planned feed stations\, etc\, but you can utilize any publicly available services. One difference from other events is that we are encouraging (but not requiring) riders to go slow and ride together in groups. Riders of all three route options may elect to camp together the first night (about halfway through the short route or about 60-70 miles in for the other routes) in a private group campsite. \n58\, 158\, and 500 mile route options
URL:https://fingerlakescycling.org/event/finger-lakes-freshet-2/
CATEGORIES:Gravel event,Regional Rides
END:VEVENT
BEGIN:VEVENT
DTSTART;TZID=UTC:20260822T110000
DTEND;TZID=UTC:20260822T170000
DTSTAMP:20260423T170826
CREATED:20260117T022355Z
LAST-MODIFIED:20260117T023722Z
UID:1911-1787396400-1787418000@fingerlakescycling.org
SUMMARY:Butternut Valley Gravel Grinder
DESCRIPTION:This is a ride\, not a race. 15 mile and 45 mile options\, Garrattsville NY
URL:https://fingerlakescycling.org/event/butternut-valley-gravel-grinder-4/
CATEGORIES:Gravel event,Regional Rides
END:VEVENT
BEGIN:VEVENT
DTSTART;TZID=UTC:20260919T070000
DTEND;TZID=UTC:20260919T170000
DTSTAMP:20260423T170826
CREATED:20260121T213035Z
LAST-MODIFIED:20260121T213035Z
UID:1920-1789801200-1789837200@fingerlakescycling.org
SUMMARY:AIDS Ride for Life
DESCRIPTION:Fundraiser ride for the Southern Tier AIDS program. Fully supported with route options ranging from 14 – 101 miles around Cayuga Lake.  Registration opens April 1 2026. \nMore information: http://aidsrideforlife.org/
URL:https://fingerlakescycling.org/event/aids-ride-for-life-4/
LOCATION:Stewart Park\, 1 James L. Gibbs Drive\, Ithaca\, 14850\, United States
CATEGORIES:Regional Rides
END:VEVENT
BEGIN:VEVENT
DTSTART;TZID=UTC:20260920T080000
DTEND;TZID=UTC:20260920T170000
DTSTAMP:20260423T170826
CREATED:20260121T213635Z
LAST-MODIFIED:20260121T213635Z
UID:1922-1789891200-1789923600@fingerlakescycling.org
SUMMARY:Tour de Shunk - Road and Gravel
DESCRIPTION:The Tour de Shunk offers challenging and scenic routes on mostly traffic-free roads in Sullivan and Bradford counties in northeast PA\, with a wonderful spaghetti dinner included afterward.  It has grown over its 27 years to include now three gravel routes\, up to 74 miles long – and paved routes of ~25\, 50\, 75 and 100+ miles. There’s also a Youth / Intro to Gravel ride of about 10 miles on an old railroad grade in PA State Game Lands.   The two longer gravel routes include SGL and Loyalsock State Forest roads.   Seven routes to choose from total\, something for everyone.  All routes start from from Rocky’s Bike Shop\, Monroeton\, PA 18832.  T-shirt included\, and rider support\, food and drink provided along the way.   All proceeds support Big Brothers Big Sisters.  FLCC is not affiliated with this event.   Visit BikeReg (road – https://www.bikereg.com/tour-de-shunk-road-ride or gravel – https://www.bikereg.com/tour-de-shunk-gravel) or BBBS (https://www.bbbsnepa.com/tour-de-shunk/).
URL:https://fingerlakescycling.org/event/tour-de-shunk-road-and-gravel-2/
CATEGORIES:Regional Rides
END:VEVENT
END:VCALENDAR