BEGIN:VCALENDAR
VERSION:2.0
PRODID:-//Finger Lakes Cycling Club - ECPv5.14.1//NONSGML v1.0//EN
CALSCALE:GREGORIAN
METHOD:PUBLISH
X-WR-CALNAME:Finger Lakes Cycling Club
X-ORIGINAL-URL:https://fingerlakescycling.org
X-WR-CALDESC:Events for Finger Lakes Cycling Club
REFRESH-INTERVAL;VALUE=DURATION:PT1H
X-Robots-Tag:noindex
X-PUBLISHED-TTL:PT1H
BEGIN:VTIMEZONE
TZID:America/Halifax
BEGIN:DAYLIGHT
TZOFFSETFROM:-0400
TZOFFSETTO:-0300
TZNAME:ADT
DTSTART:20240310T060000
END:DAYLIGHT
BEGIN:STANDARD
TZOFFSETFROM:-0300
TZOFFSETTO:-0400
TZNAME:AST
DTSTART:20241103T050000
END:STANDARD
TZID:UTC
BEGIN:STANDARD
TZOFFSETFROM:+0000
TZOFFSETTO:+0000
TZNAME:UTC
DTSTART:20230101T000000
END:STANDARD
END:VTIMEZONE
BEGIN:VEVENT
DTSTART;TZID=America/Halifax:20240907T110000
DTEND;TZID=America/Halifax:20240907T150000
DTSTAMP:20260423T221132
CREATED:20240529T025847Z
LAST-MODIFIED:20240529T025847Z
UID:1549-1725706800-1725721200@fingerlakescycling.org
SUMMARY:Butternut Valley Gravel Grinder
DESCRIPTION:The Butternut Valley Gravel Grinder (formerly New Lisbon Gravel Grinder) is a 10 or 45 mile gravel event near Garrattsville\, NY.  Not technically a race\, but a challenging and adventurous day on the bike. \nNew routes for 2024\, but still begins and ends at the Butternuts Brewery. \nMore information and to register: https://www.bikereg.com/butternut-valley-gravel-grinder
URL:https://fingerlakescycling.org/event/butternut-valley-gravel-grinder-2/
LOCATION:NY
CATEGORIES:Gravel event,Race,Regional Rides
END:VEVENT
BEGIN:VEVENT
DTSTART;TZID=UTC:20240602T110000
DTEND;TZID=UTC:20240602T170000
DTSTAMP:20260423T221132
CREATED:20240311T162342Z
LAST-MODIFIED:20240311T162342Z
UID:1362-1717326000-1717347600@fingerlakescycling.org
SUMMARY:Keuka Lake Gravel Classic
DESCRIPTION:Presented by Steuben Brewing Company\, the Keuka Lake Gravel Classic will host hundreds of riders from all over the country as they traverse the challenging and scenic dirt roads of the Finger Lakes beer and wine country. \nThe KLGC offers three course distances (about 18\, 30 and 50 miles)  that will feature vistas and vineyards\, soul-crushing climbs and gnarly descents. The routes offer fast hard racing for traditional elite and masters racers and exciting challenges for grand fondo riders and new cyclists alike. \nFollowing the races\, all riders are invited to celebrate at our after party featuring prizes\, music\, food\, and the region’s finest craft beverages at Steuben Brewing Company. \nFor more information and to register: https://www.bikereg.com/klgc
URL:https://fingerlakescycling.org/event/keuka-lake-gravel-classic-2/
LOCATION:NY
CATEGORIES:Gravel event,Race
END:VEVENT
BEGIN:VEVENT
DTSTART;TZID=UTC:20240526T110000
DTEND;TZID=UTC:20240526T170000
DTSTAMP:20260423T221132
CREATED:20240311T162115Z
LAST-MODIFIED:20240311T162115Z
UID:1360-1716721200-1716742800@fingerlakescycling.org
SUMMARY:Dirty Hector Gravel Race
DESCRIPTION:This race is a reincarnation of the NatiFo Forty race \nThe new race course winds its way through\, around\, up\, down\, and across the best trails\, cow fields\, creeks\, mud\, forests\, dirt\, and gravel roads that Hector and the Finger Lakes National Forest have to offer. \nThe roughly 40 mile race with about 3500′ of elevation gain will start and finish at Silver Queen Farm. \nMore information and to register: https://www.bikereg.com/dirtyhector2024
URL:https://fingerlakescycling.org/event/dirty-hector-gravel-race/
LOCATION:NY
CATEGORIES:Gravel event,Race
END:VEVENT
BEGIN:VEVENT
DTSTART;TZID=UTC:20240505T100000
DTEND;TZID=UTC:20240505T150000
DTSTAMP:20260423T221132
CREATED:20240311T155803Z
LAST-MODIFIED:20240311T155803Z
UID:1348-1714903200-1714921200@fingerlakescycling.org
SUMMARY:Hollenbeck's Spring Classic Road Race
DESCRIPTION:The 43rd year of the Hollenbeck’s Spring Classic Road Race! \n22 mile and 44 mile options available \nDetails and registration at: https://www.bikereg.com/hollenbecks-spring-classic-road-race \n 
URL:https://fingerlakescycling.org/event/hollenbecks-spring-classic-road-race/
LOCATION:Hollenbeck’s Cider Mill\, 1265 NY-392\, Cortland\, NY\, 13045\, United States
CATEGORIES:Race
END:VEVENT
BEGIN:VEVENT
DTSTART;TZID=UTC:20230910T080000
DTEND;TZID=UTC:20230910T150000
DTSTAMP:20260423T221132
CREATED:20230818T180856Z
LAST-MODIFIED:20230818T180856Z
UID:1332-1694332800-1694358000@fingerlakescycling.org
SUMMARY:Swandrome Cyclocross
DESCRIPTION:This is an annual family friendly event with one of the longest continually running cyclocross races in the country on the trails of the Swandrome atop Mt. Pleasant.  While there are numerous categories based on age\, sex\, and types of bikes\, for some of us the real “feature events” are the little kids races. We have everything from tykes on Strider push-bikes up through real geared bikes with distances appropriate for each group.   (Note: kids races are Free)\n\nWe have minimal prizes and put entry fee money into food and drink that is available for all racers and spectators. This makes for a very social event with a good vibe that keeps racers and families hanging out to support each other through all events.\n\nWhile the course has been laid out and relatively manicured for the whole summer\, there will be course prep to do as we get closer to race day. We will announce volunteer work days in the last 2 weeks before the event for mowing\, trimming low branches on some trails\, and putting in stakes and tape to define the race course.  On race day we will need a half-dozen volunteers to manage registration\, pick results\, and manage the different course markings for kids races.\n\nNote that we welcome people to ride (walk or run) on the many trails of the Swandrome at any time\, so come up and practice and bring kids up to get them used to riding and psyched for the event.  If we can get a bunch of families to turn out on some weeknights such that we reach a “critical mass” then it will be even more fun for families\, as kids will have time with friends to look forward to each week.
URL:https://fingerlakescycling.org/event/swandrome-cyclocross/
LOCATION:NY
CATEGORIES:Family Fun,Race
END:VEVENT
BEGIN:VEVENT
DTSTART;TZID=UTC:20230812T100000
DTEND;TZID=UTC:20230812T150000
DTSTAMP:20260423T221132
CREATED:20230602T133752Z
LAST-MODIFIED:20230602T133752Z
UID:1180-1691834400-1691852400@fingerlakescycling.org
SUMMARY:T-Burg Crit
DESCRIPTION:New York State Criterium Championship Event!  Open to All\, Top New York residents will be awarded State Champions in their categories.  New Racers! (novice) are encouraged and welcome. \nPre-Reg Only!  No Day of Registration! \nSecond race for 15.$ \nCourse: 1 mile 8 turn clockwise neighborhood crit course. Slight rise up Old Main Street.
URL:https://fingerlakescycling.org/event/t-burg-crit/
LOCATION:NY
CATEGORIES:Race
END:VEVENT
BEGIN:VEVENT
DTSTART;VALUE=DATE:20230604
DTEND;VALUE=DATE:20230605
DTSTAMP:20260423T221132
CREATED:20230220T175913Z
LAST-MODIFIED:20230220T175913Z
UID:1058-1685836800-1685923199@fingerlakescycling.org
SUMMARY:Keuka Lake Gravel Classic
DESCRIPTION:Presented by Steuben Brewing Company\, the Keuka Lake Gravel Classic will host hundreds of riders from all over the country as they traverse the challenging and scenic dirt roads of the Finger Lakes beer and wine country. \nhttps://www.bikereg.com/klgc
URL:https://fingerlakescycling.org/event/keuka-lake-gravel-classic/
LOCATION:Community Corners\, 903 Hanshaw Road\, Ithaca\, NY\, United States
CATEGORIES:Race
ORGANIZER;CN="Brian%20Hwang":MAILTO:bhwang.it@gmail.com
END:VEVENT
BEGIN:VEVENT
DTSTART;VALUE=DATE:20230507
DTEND;VALUE=DATE:20230508
DTSTAMP:20260423T221132
CREATED:20230220T174853Z
LAST-MODIFIED:20230430T221227Z
UID:1045-1683417600-1683503999@fingerlakescycling.org
SUMMARY:Hollenbeck's Road Race
DESCRIPTION:Join us for the 42nd year of Hollenbeck’s Spring Classic Road Race
URL:https://fingerlakescycling.org/event/hollenbecks-road-race/
LOCATION:Hollenbeck’s Cider Mill\, 1265 NY-392\, Cortland\, NY\, 13045\, United States
CATEGORIES:Race
END:VEVENT
END:VCALENDAR