BEGIN:VCALENDAR
VERSION:2.0
PRODID:-//Finger Lakes Cycling Club - ECPv5.14.1//NONSGML v1.0//EN
CALSCALE:GREGORIAN
METHOD:PUBLISH
X-WR-CALNAME:Finger Lakes Cycling Club
X-ORIGINAL-URL:https://fingerlakescycling.org
X-WR-CALDESC:Events for Finger Lakes Cycling Club
REFRESH-INTERVAL;VALUE=DURATION:PT1H
X-Robots-Tag:noindex
X-PUBLISHED-TTL:PT1H
BEGIN:VTIMEZONE
TZID:UTC
BEGIN:STANDARD
TZOFFSETFROM:+0000
TZOFFSETTO:+0000
TZNAME:UTC
DTSTART:20250101T000000
END:STANDARD
END:VTIMEZONE
BEGIN:VEVENT
DTSTART;TZID=UTC:20250622T090000
DTEND;TZID=UTC:20250622T170000
DTSTAMP:20260424T104810
CREATED:20250506T183328Z
LAST-MODIFIED:20250506T183328Z
UID:1825-1750582800-1750611600@fingerlakescycling.org
SUMMARY:Empire State Senior Games
DESCRIPTION:Location: Southern Cayuga High School \nFore details\, visit: https://nyseniorgames.com/e/cycling-2025
URL:https://fingerlakescycling.org/event/empire-state-senior-games/
CATEGORIES:Race
END:VEVENT
END:VCALENDAR