BEGIN:VCALENDAR
VERSION:2.0
PRODID:-//Finger Lakes Cycling Club - ECPv5.14.1//NONSGML v1.0//EN
CALSCALE:GREGORIAN
METHOD:PUBLISH
X-WR-CALNAME:Finger Lakes Cycling Club
X-ORIGINAL-URL:https://fingerlakescycling.org
X-WR-CALDESC:Events for Finger Lakes Cycling Club
REFRESH-INTERVAL;VALUE=DURATION:PT1H
X-Robots-Tag:noindex
X-PUBLISHED-TTL:PT1H
BEGIN:VTIMEZONE
TZID:UTC
BEGIN:STANDARD
TZOFFSETFROM:+0000
TZOFFSETTO:+0000
TZNAME:UTC
DTSTART:20260101T000000
END:STANDARD
END:VTIMEZONE
BEGIN:VEVENT
DTSTART;TZID=UTC:20260607T110000
DTEND;TZID=UTC:20260607T170000
DTSTAMP:20260423T233942
CREATED:20260117T021911Z
LAST-MODIFIED:20260117T021911Z
UID:1905-1780830000-1780851600@fingerlakescycling.org
SUMMARY:Keuka Lake Gravel Classic
DESCRIPTION:Presented by Steuben Brewing Company\, the Keuka Lake Gravel Classic will host hundreds of riders from all over the country as they traverse the challenging and scenic dirt roads of the Finger Lakes beer and wine country. \nThe KLGC offers three course distances (18\, 30\, and 55 miles) that will feature vistas and vineyards\, soul-crushing climbs and gnarly descents. The routes offer fast hard racing for traditional elite and masters racers and exciting challenges for granfondo riders and new cyclists alike. \nFollowing the races\, all riders are invited to celebrate at our after party featuring prizes\, music\, food\, and the region’s finest craft beverages at Steuben Brewing Company.
URL:https://fingerlakescycling.org/event/keuka-lake-gravel-classic-4/
CATEGORIES:Gravel event,Race
END:VEVENT
END:VCALENDAR