BEGIN:VCALENDAR
VERSION:2.0
PRODID:-//Finger Lakes Cycling Club - ECPv5.14.1//NONSGML v1.0//EN
CALSCALE:GREGORIAN
METHOD:PUBLISH
X-WR-CALNAME:Finger Lakes Cycling Club
X-ORIGINAL-URL:https://fingerlakescycling.org
X-WR-CALDESC:Events for Finger Lakes Cycling Club
REFRESH-INTERVAL;VALUE=DURATION:PT1H
X-Robots-Tag:noindex
X-PUBLISHED-TTL:PT1H
BEGIN:VTIMEZONE
TZID:UTC
BEGIN:STANDARD
TZOFFSETFROM:+0000
TZOFFSETTO:+0000
TZNAME:UTC
DTSTART:20260101T000000
END:STANDARD
END:VTIMEZONE
BEGIN:VEVENT
DTSTART;VALUE=DATE:20260502
DTEND;VALUE=DATE:20260503
DTSTAMP:20260423T210334
CREATED:20260117T023606Z
LAST-MODIFIED:20260117T023606Z
UID:1913-1777680000-1777766399@fingerlakescycling.org
SUMMARY:Finger Lakes Freshet
DESCRIPTION:The Finger Lakes Freshet returns for a second year! \nThis is a casual\, unofficial\, unsanctioned\, and unsupported gravel bikepacking ride starting and ending in Stewart Park\, Ithaca\, NY\, homeland of the Gayogohó:no people. Routes will follow gravel roads as much as possible. This will be a self-supported ride following the ethics of other bikepacking events like The Adirondack Trail Ride\, Vermont Super 8\, Catskill Bikepacking Route\, or the Tour Divide – meaning it’s an unmarked route\, with no sag wagon\, no planned feed stations\, etc\, but you can utilize any publicly available services. One difference from other events is that we are encouraging (but not requiring) riders to go slow and ride together in groups. Riders of all three route options may elect to camp together the first night (about halfway through the short route or about 60-70 miles in for the other routes) in a private group campsite. \n58\, 158\, and 500 mile route options
URL:https://fingerlakescycling.org/event/finger-lakes-freshet-2/
CATEGORIES:Gravel event,Regional Rides
END:VEVENT
BEGIN:VEVENT
DTSTART;TZID=UTC:20260524T110000
DTEND;TZID=UTC:20260524T150000
DTSTAMP:20260423T210334
CREATED:20260117T022035Z
LAST-MODIFIED:20260117T022035Z
UID:1907-1779620400-1779634800@fingerlakescycling.org
SUMMARY:Dirty Hector Gravel Race
DESCRIPTION:The Dirty Hector race course winds its way through\, around\, up\, down\, and across the best trails\, cow fields\, creeks\, mud\, forests\, dirt\, and gravel roads that Hector and the Finger Lakes National Forest have to offer. \nThe roughly 40 mile race with about 3500′ of elevation gain will start and finish at Silver Queen Farm.
URL:https://fingerlakescycling.org/event/dirty-hector-gravel-race-3/
CATEGORIES:Gravel event,Race
END:VEVENT
END:VCALENDAR